BEGIN:VCALENDAR
VERSION:2.0
PRODID:-//The Crag - ECPv6.6.4.2//NONSGML v1.0//EN
CALSCALE:GREGORIAN
METHOD:PUBLISH
X-WR-CALNAME:The Crag
X-ORIGINAL-URL:https://iloverockclimbing.com
X-WR-CALDESC:Events for The Crag
REFRESH-INTERVAL;VALUE=DURATION:PT1H
X-Robots-Tag:noindex
X-PUBLISHED-TTL:PT1H
BEGIN:VTIMEZONE
TZID:America/Chicago
BEGIN:DAYLIGHT
TZOFFSETFROM:-0600
TZOFFSETTO:-0500
TZNAME:CDT
DTSTART:20160313T080000
END:DAYLIGHT
BEGIN:STANDARD
TZOFFSETFROM:-0500
TZOFFSETTO:-0600
TZNAME:CST
DTSTART:20161106T070000
END:STANDARD
BEGIN:DAYLIGHT
TZOFFSETFROM:-0600
TZOFFSETTO:-0500
TZNAME:CDT
DTSTART:20170312T080000
END:DAYLIGHT
BEGIN:STANDARD
TZOFFSETFROM:-0500
TZOFFSETTO:-0600
TZNAME:CST
DTSTART:20171105T070000
END:STANDARD
END:VTIMEZONE
BEGIN:VEVENT
DTSTART;TZID=America/Chicago:20170124T160000
DTEND;TZID=America/Chicago:20170124T193000
DTSTAMP:20260419T122944
CREATED:20150902T235732Z
LAST-MODIFIED:20150902T235732Z
UID:7044-1485273600-1485286200@iloverockclimbing.com
SUMMARY:Youth Programming
DESCRIPTION:On Tuesdays and Thursdays we have our Youth Programming! The schedule goes as follows: \nKid’s Club: 4pm-5pm (4-6 year old climbers) \nJunior Bighorn: 5pm-6pm (7-10 year old climbers) \nBighorn Society: 6pm-730pm (10-16 year old climbers) \nFor more information on our programs\, check out the youth programming section of our website.
URL:https://iloverockclimbing.com/event/youth-programming-2-2017-01-24/
LOCATION:The Crag At Cool Springs\, 121 Seaboard Lane\, Franklin\, TN\, 37067\, United States
CATEGORIES:Classes & Instruction
END:VEVENT
BEGIN:VEVENT
DTSTART;TZID=America/Chicago:20170123T173000
DTEND;TZID=America/Chicago:20170123T183000
DTSTAMP:20260419T122944
CREATED:20150902T195308Z
LAST-MODIFIED:20150902T195308Z
UID:7845-1485192600-1485196200@iloverockclimbing.com
SUMMARY:Yoga
DESCRIPTION:Our vinyasa yoga is designed to ignite the breath while building complete body strength and flexibility. Students of all levels will experience a series of poses linked to intentional breathing to ignite heat to expel toxins and re-energize the body while relaxing the mind to improve overall energy flow. This vinyasa class is the perfect place to begin a yoga practice or to continue to find challenge in an existing practice.  See you on your mat! \n  \n  \nREGISTER NOW
URL:https://iloverockclimbing.com/event/vinyasa-flow-yoga-2017-01-23/
LOCATION:The Crag At Cool Springs\, 121 Seaboard Lane\, Franklin\, TN\, 37067\, United States
CATEGORIES:Classes & Instruction
ATTACH;FMTTYPE=image/jpeg:https://iloverockclimbing.com/wp-content/uploads/2015/09/crag-yoga-1.jpg
END:VEVENT
BEGIN:VEVENT
DTSTART;TZID=America/Chicago:20170119T190000
DTEND;TZID=America/Chicago:20170119T200000
DTSTAMP:20260419T122944
CREATED:20150902T195710Z
LAST-MODIFIED:20150923T214718Z
UID:6008-1484852400-1484856000@iloverockclimbing.com
SUMMARY:Yoga
DESCRIPTION:Our vinyasa yoga is designed to ignite the breath while building complete body strength and flexibility. Students of all levels will experience a series of poses linked to intentional breathing to ignite heat to expel toxins and re-energize the body while relaxing the mind to improve overall energy flow. This vinyasa class is the perfect place to begin a yoga practice or to continue to find challenge in an existing practice.  See you on your mat! \n  \n  \nREGISTER HERE
URL:https://iloverockclimbing.com/event/vinyasa-flow-yoga-2-2017-01-19/
LOCATION:The Crag At Cool Springs\, 121 Seaboard Lane\, Franklin\, TN\, 37067\, United States
CATEGORIES:Classes & Instruction
ATTACH;FMTTYPE=image/jpeg:https://iloverockclimbing.com/wp-content/uploads/2015/09/crag-yoga-1.jpg
END:VEVENT
BEGIN:VEVENT
DTSTART;TZID=America/Chicago:20170119T160000
DTEND;TZID=America/Chicago:20170119T193000
DTSTAMP:20260419T122944
CREATED:20150902T235350Z
LAST-MODIFIED:20150902T235350Z
UID:6939-1484841600-1484854200@iloverockclimbing.com
SUMMARY:Youth Programming
DESCRIPTION:On Tuesdays and Thursdays we have our Youth Programming! The schedule goes as follows: \nKid’s Club: 4pm-5pm (4-6 year old climbers) \nJunior Bighorn: 5pm-6pm (7-10 year old climbers) \nBighorn Society: 6pm-730pm (10-16 year old climbers) \nFor more information on our programs\, check out the youth programming section of our website.
URL:https://iloverockclimbing.com/event/youth-programming-2017-01-19/
LOCATION:The Crag At Cool Springs\, 121 Seaboard Lane\, Franklin\, TN\, 37067\, United States
CATEGORIES:Classes & Instruction
END:VEVENT
BEGIN:VEVENT
DTSTART;TZID=America/Chicago:20170118T080000
DTEND;TZID=America/Chicago:20170118T170000
DTSTAMP:20260419T122944
CREATED:20160714T193649Z
LAST-MODIFIED:20160714T193649Z
UID:8162-1484726400-1484758800@iloverockclimbing.com
SUMMARY:Climbing for Fitness
DESCRIPTION:Details forthcoming
URL:https://iloverockclimbing.com/event/climbing-for-fitness-3/
CATEGORIES:Classes & Instruction
END:VEVENT
BEGIN:VEVENT
DTSTART;TZID=America/Chicago:20170117T160000
DTEND;TZID=America/Chicago:20170117T193000
DTSTAMP:20260419T122944
CREATED:20150902T235732Z
LAST-MODIFIED:20150902T235732Z
UID:7043-1484668800-1484681400@iloverockclimbing.com
SUMMARY:Youth Programming
DESCRIPTION:On Tuesdays and Thursdays we have our Youth Programming! The schedule goes as follows: \nKid’s Club: 4pm-5pm (4-6 year old climbers) \nJunior Bighorn: 5pm-6pm (7-10 year old climbers) \nBighorn Society: 6pm-730pm (10-16 year old climbers) \nFor more information on our programs\, check out the youth programming section of our website.
URL:https://iloverockclimbing.com/event/youth-programming-2-2017-01-17/
LOCATION:The Crag At Cool Springs\, 121 Seaboard Lane\, Franklin\, TN\, 37067\, United States
CATEGORIES:Classes & Instruction
END:VEVENT
BEGIN:VEVENT
DTSTART;TZID=America/Chicago:20170116T173000
DTEND;TZID=America/Chicago:20170116T183000
DTSTAMP:20260419T122944
CREATED:20150902T195308Z
LAST-MODIFIED:20150902T195308Z
UID:7844-1484587800-1484591400@iloverockclimbing.com
SUMMARY:Yoga
DESCRIPTION:Our vinyasa yoga is designed to ignite the breath while building complete body strength and flexibility. Students of all levels will experience a series of poses linked to intentional breathing to ignite heat to expel toxins and re-energize the body while relaxing the mind to improve overall energy flow. This vinyasa class is the perfect place to begin a yoga practice or to continue to find challenge in an existing practice.  See you on your mat! \n  \n  \nREGISTER NOW
URL:https://iloverockclimbing.com/event/vinyasa-flow-yoga-2017-01-16/
LOCATION:The Crag At Cool Springs\, 121 Seaboard Lane\, Franklin\, TN\, 37067\, United States
CATEGORIES:Classes & Instruction
ATTACH;FMTTYPE=image/jpeg:https://iloverockclimbing.com/wp-content/uploads/2015/09/crag-yoga-1.jpg
END:VEVENT
BEGIN:VEVENT
DTSTART;TZID=America/Chicago:20170112T190000
DTEND;TZID=America/Chicago:20170112T200000
DTSTAMP:20260419T122944
CREATED:20150902T195710Z
LAST-MODIFIED:20150923T214714Z
UID:6007-1484247600-1484251200@iloverockclimbing.com
SUMMARY:Yoga
DESCRIPTION:Our vinyasa yoga is designed to ignite the breath while building complete body strength and flexibility. Students of all levels will experience a series of poses linked to intentional breathing to ignite heat to expel toxins and re-energize the body while relaxing the mind to improve overall energy flow. This vinyasa class is the perfect place to begin a yoga practice or to continue to find challenge in an existing practice.  See you on your mat! \n  \n  \nREGISTER HERE
URL:https://iloverockclimbing.com/event/vinyasa-flow-yoga-2-2017-01-12/
LOCATION:The Crag At Cool Springs\, 121 Seaboard Lane\, Franklin\, TN\, 37067\, United States
CATEGORIES:Classes & Instruction
ATTACH;FMTTYPE=image/jpeg:https://iloverockclimbing.com/wp-content/uploads/2015/09/crag-yoga-1.jpg
END:VEVENT
BEGIN:VEVENT
DTSTART;TZID=America/Chicago:20170112T160000
DTEND;TZID=America/Chicago:20170112T193000
DTSTAMP:20260419T122944
CREATED:20150902T235350Z
LAST-MODIFIED:20150902T235350Z
UID:6938-1484236800-1484249400@iloverockclimbing.com
SUMMARY:Youth Programming
DESCRIPTION:On Tuesdays and Thursdays we have our Youth Programming! The schedule goes as follows: \nKid’s Club: 4pm-5pm (4-6 year old climbers) \nJunior Bighorn: 5pm-6pm (7-10 year old climbers) \nBighorn Society: 6pm-730pm (10-16 year old climbers) \nFor more information on our programs\, check out the youth programming section of our website.
URL:https://iloverockclimbing.com/event/youth-programming-2017-01-12/
LOCATION:The Crag At Cool Springs\, 121 Seaboard Lane\, Franklin\, TN\, 37067\, United States
CATEGORIES:Classes & Instruction
END:VEVENT
BEGIN:VEVENT
DTSTART;TZID=America/Chicago:20170111T080000
DTEND;TZID=America/Chicago:20170111T170000
DTSTAMP:20260419T122944
CREATED:20160714T193557Z
LAST-MODIFIED:20160714T193557Z
UID:8161-1484121600-1484154000@iloverockclimbing.com
SUMMARY:Climbing for Fitness
DESCRIPTION:Details forthcoming
URL:https://iloverockclimbing.com/event/climbing-for-fitness-2/
CATEGORIES:Classes & Instruction
END:VEVENT
BEGIN:VEVENT
DTSTART;TZID=America/Chicago:20170110T160000
DTEND;TZID=America/Chicago:20170110T193000
DTSTAMP:20260419T122944
CREATED:20150902T235732Z
LAST-MODIFIED:20150902T235732Z
UID:7042-1484064000-1484076600@iloverockclimbing.com
SUMMARY:Youth Programming
DESCRIPTION:On Tuesdays and Thursdays we have our Youth Programming! The schedule goes as follows: \nKid’s Club: 4pm-5pm (4-6 year old climbers) \nJunior Bighorn: 5pm-6pm (7-10 year old climbers) \nBighorn Society: 6pm-730pm (10-16 year old climbers) \nFor more information on our programs\, check out the youth programming section of our website.
URL:https://iloverockclimbing.com/event/youth-programming-2-2017-01-10/
LOCATION:The Crag At Cool Springs\, 121 Seaboard Lane\, Franklin\, TN\, 37067\, United States
CATEGORIES:Classes & Instruction
END:VEVENT
BEGIN:VEVENT
DTSTART;TZID=America/Chicago:20170109T173000
DTEND;TZID=America/Chicago:20170109T183000
DTSTAMP:20260419T122944
CREATED:20150902T195308Z
LAST-MODIFIED:20150902T195308Z
UID:7843-1483983000-1483986600@iloverockclimbing.com
SUMMARY:Yoga
DESCRIPTION:Our vinyasa yoga is designed to ignite the breath while building complete body strength and flexibility. Students of all levels will experience a series of poses linked to intentional breathing to ignite heat to expel toxins and re-energize the body while relaxing the mind to improve overall energy flow. This vinyasa class is the perfect place to begin a yoga practice or to continue to find challenge in an existing practice.  See you on your mat! \n  \n  \nREGISTER NOW
URL:https://iloverockclimbing.com/event/vinyasa-flow-yoga-2017-01-09/
LOCATION:The Crag At Cool Springs\, 121 Seaboard Lane\, Franklin\, TN\, 37067\, United States
CATEGORIES:Classes & Instruction
ATTACH;FMTTYPE=image/jpeg:https://iloverockclimbing.com/wp-content/uploads/2015/09/crag-yoga-1.jpg
END:VEVENT
BEGIN:VEVENT
DTSTART;TZID=America/Chicago:20170105T190000
DTEND;TZID=America/Chicago:20170105T200000
DTSTAMP:20260419T122944
CREATED:20150902T195710Z
LAST-MODIFIED:20150923T214713Z
UID:6006-1483642800-1483646400@iloverockclimbing.com
SUMMARY:Yoga
DESCRIPTION:Our vinyasa yoga is designed to ignite the breath while building complete body strength and flexibility. Students of all levels will experience a series of poses linked to intentional breathing to ignite heat to expel toxins and re-energize the body while relaxing the mind to improve overall energy flow. This vinyasa class is the perfect place to begin a yoga practice or to continue to find challenge in an existing practice.  See you on your mat! \n  \n  \nREGISTER HERE
URL:https://iloverockclimbing.com/event/vinyasa-flow-yoga-2-2017-01-05/
LOCATION:The Crag At Cool Springs\, 121 Seaboard Lane\, Franklin\, TN\, 37067\, United States
CATEGORIES:Classes & Instruction
ATTACH;FMTTYPE=image/jpeg:https://iloverockclimbing.com/wp-content/uploads/2015/09/crag-yoga-1.jpg
END:VEVENT
BEGIN:VEVENT
DTSTART;TZID=America/Chicago:20170105T160000
DTEND;TZID=America/Chicago:20170105T193000
DTSTAMP:20260419T122944
CREATED:20150902T235350Z
LAST-MODIFIED:20150902T235510Z
UID:6937-1483632000-1483644600@iloverockclimbing.com
SUMMARY:Youth Programming
DESCRIPTION:On Tuesdays and Thursdays we have our Youth Programming! The schedule goes as follows: \nKid’s Club: 4pm-5pm (4-6 year old climbers) \nJunior Bighorn: 5pm-6pm (7-10 year old climbers) \nBighorn Society: 6pm-730pm (10-16 year old climbers) \nFor more information on our programs\, check out the youth programming section of our website.
URL:https://iloverockclimbing.com/event/youth-programming-2017-01-05/
LOCATION:The Crag At Cool Springs\, 121 Seaboard Lane\, Franklin\, TN\, 37067\, United States
CATEGORIES:Classes & Instruction
END:VEVENT
BEGIN:VEVENT
DTSTART;TZID=America/Chicago:20170104T080000
DTEND;TZID=America/Chicago:20170104T170000
DTSTAMP:20260419T122944
CREATED:20160714T193459Z
LAST-MODIFIED:20160714T193459Z
UID:8160-1483516800-1483549200@iloverockclimbing.com
SUMMARY:Climbing for Fitness
DESCRIPTION:Details forthcoming
URL:https://iloverockclimbing.com/event/climbing-for-fitness/
CATEGORIES:Classes & Instruction
END:VEVENT
BEGIN:VEVENT
DTSTART;TZID=America/Chicago:20170103T160000
DTEND;TZID=America/Chicago:20170103T193000
DTSTAMP:20260419T122944
CREATED:20150902T235732Z
LAST-MODIFIED:20150902T235732Z
UID:7041-1483459200-1483471800@iloverockclimbing.com
SUMMARY:Youth Programming
DESCRIPTION:On Tuesdays and Thursdays we have our Youth Programming! The schedule goes as follows: \nKid’s Club: 4pm-5pm (4-6 year old climbers) \nJunior Bighorn: 5pm-6pm (7-10 year old climbers) \nBighorn Society: 6pm-730pm (10-16 year old climbers) \nFor more information on our programs\, check out the youth programming section of our website.
URL:https://iloverockclimbing.com/event/youth-programming-2-2017-01-03/
LOCATION:The Crag At Cool Springs\, 121 Seaboard Lane\, Franklin\, TN\, 37067\, United States
CATEGORIES:Classes & Instruction
END:VEVENT
BEGIN:VEVENT
DTSTART;TZID=America/Chicago:20170102T173000
DTEND;TZID=America/Chicago:20170102T183000
DTSTAMP:20260419T122944
CREATED:20150902T195308Z
LAST-MODIFIED:20150902T195308Z
UID:7842-1483378200-1483381800@iloverockclimbing.com
SUMMARY:Yoga
DESCRIPTION:Our vinyasa yoga is designed to ignite the breath while building complete body strength and flexibility. Students of all levels will experience a series of poses linked to intentional breathing to ignite heat to expel toxins and re-energize the body while relaxing the mind to improve overall energy flow. This vinyasa class is the perfect place to begin a yoga practice or to continue to find challenge in an existing practice.  See you on your mat! \n  \n  \nREGISTER NOW
URL:https://iloverockclimbing.com/event/vinyasa-flow-yoga-2017-01-02/
LOCATION:The Crag At Cool Springs\, 121 Seaboard Lane\, Franklin\, TN\, 37067\, United States
CATEGORIES:Classes & Instruction
ATTACH;FMTTYPE=image/jpeg:https://iloverockclimbing.com/wp-content/uploads/2015/09/crag-yoga-1.jpg
END:VEVENT
BEGIN:VEVENT
DTSTART;TZID=America/Chicago:20161229T190000
DTEND;TZID=America/Chicago:20161229T200000
DTSTAMP:20260419T122944
CREATED:20150902T195710Z
LAST-MODIFIED:20150923T214713Z
UID:6005-1483038000-1483041600@iloverockclimbing.com
SUMMARY:Yoga
DESCRIPTION:Our vinyasa yoga is designed to ignite the breath while building complete body strength and flexibility. Students of all levels will experience a series of poses linked to intentional breathing to ignite heat to expel toxins and re-energize the body while relaxing the mind to improve overall energy flow. This vinyasa class is the perfect place to begin a yoga practice or to continue to find challenge in an existing practice.  See you on your mat! \n  \n  \nREGISTER HERE
URL:https://iloverockclimbing.com/event/vinyasa-flow-yoga-2-2016-12-29/
LOCATION:The Crag At Cool Springs\, 121 Seaboard Lane\, Franklin\, TN\, 37067\, United States
CATEGORIES:Classes & Instruction
ATTACH;FMTTYPE=image/jpeg:https://iloverockclimbing.com/wp-content/uploads/2015/09/crag-yoga-1.jpg
END:VEVENT
BEGIN:VEVENT
DTSTART;TZID=America/Chicago:20161229T160000
DTEND;TZID=America/Chicago:20161229T193000
DTSTAMP:20260419T122944
CREATED:20150902T235350Z
LAST-MODIFIED:20150902T235510Z
UID:6936-1483027200-1483039800@iloverockclimbing.com
SUMMARY:Youth Programming
DESCRIPTION:On Tuesdays and Thursdays we have our Youth Programming! The schedule goes as follows: \nKid’s Club: 4pm-5pm (4-6 year old climbers) \nJunior Bighorn: 5pm-6pm (7-10 year old climbers) \nBighorn Society: 6pm-730pm (10-16 year old climbers) \nFor more information on our programs\, check out the youth programming section of our website.
URL:https://iloverockclimbing.com/event/youth-programming-2016-12-29/
LOCATION:The Crag At Cool Springs\, 121 Seaboard Lane\, Franklin\, TN\, 37067\, United States
CATEGORIES:Classes & Instruction
END:VEVENT
BEGIN:VEVENT
DTSTART;TZID=America/Chicago:20161227T160000
DTEND;TZID=America/Chicago:20161227T193000
DTSTAMP:20260419T122944
CREATED:20150902T235732Z
LAST-MODIFIED:20150902T235732Z
UID:7040-1482854400-1482867000@iloverockclimbing.com
SUMMARY:Youth Programming
DESCRIPTION:On Tuesdays and Thursdays we have our Youth Programming! The schedule goes as follows: \nKid’s Club: 4pm-5pm (4-6 year old climbers) \nJunior Bighorn: 5pm-6pm (7-10 year old climbers) \nBighorn Society: 6pm-730pm (10-16 year old climbers) \nFor more information on our programs\, check out the youth programming section of our website.
URL:https://iloverockclimbing.com/event/youth-programming-2-2016-12-27/
LOCATION:The Crag At Cool Springs\, 121 Seaboard Lane\, Franklin\, TN\, 37067\, United States
CATEGORIES:Classes & Instruction
END:VEVENT
BEGIN:VEVENT
DTSTART;TZID=America/Chicago:20161226T173000
DTEND;TZID=America/Chicago:20161226T183000
DTSTAMP:20260419T122944
CREATED:20150902T195308Z
LAST-MODIFIED:20150902T195308Z
UID:7841-1482773400-1482777000@iloverockclimbing.com
SUMMARY:Yoga
DESCRIPTION:Our vinyasa yoga is designed to ignite the breath while building complete body strength and flexibility. Students of all levels will experience a series of poses linked to intentional breathing to ignite heat to expel toxins and re-energize the body while relaxing the mind to improve overall energy flow. This vinyasa class is the perfect place to begin a yoga practice or to continue to find challenge in an existing practice.  See you on your mat! \n  \n  \nREGISTER NOW
URL:https://iloverockclimbing.com/event/vinyasa-flow-yoga-2016-12-26/
LOCATION:The Crag At Cool Springs\, 121 Seaboard Lane\, Franklin\, TN\, 37067\, United States
CATEGORIES:Classes & Instruction
ATTACH;FMTTYPE=image/jpeg:https://iloverockclimbing.com/wp-content/uploads/2015/09/crag-yoga-1.jpg
END:VEVENT
BEGIN:VEVENT
DTSTART;TZID=America/Chicago:20161222T190000
DTEND;TZID=America/Chicago:20161222T200000
DTSTAMP:20260419T122944
CREATED:20150902T195710Z
LAST-MODIFIED:20150923T214713Z
UID:6004-1482433200-1482436800@iloverockclimbing.com
SUMMARY:Yoga
DESCRIPTION:Our vinyasa yoga is designed to ignite the breath while building complete body strength and flexibility. Students of all levels will experience a series of poses linked to intentional breathing to ignite heat to expel toxins and re-energize the body while relaxing the mind to improve overall energy flow. This vinyasa class is the perfect place to begin a yoga practice or to continue to find challenge in an existing practice.  See you on your mat! \n  \n  \nREGISTER HERE
URL:https://iloverockclimbing.com/event/vinyasa-flow-yoga-2-2016-12-22/
LOCATION:The Crag At Cool Springs\, 121 Seaboard Lane\, Franklin\, TN\, 37067\, United States
CATEGORIES:Classes & Instruction
ATTACH;FMTTYPE=image/jpeg:https://iloverockclimbing.com/wp-content/uploads/2015/09/crag-yoga-1.jpg
END:VEVENT
BEGIN:VEVENT
DTSTART;TZID=America/Chicago:20161222T160000
DTEND;TZID=America/Chicago:20161222T193000
DTSTAMP:20260419T122944
CREATED:20150902T235350Z
LAST-MODIFIED:20150902T235510Z
UID:6935-1482422400-1482435000@iloverockclimbing.com
SUMMARY:Youth Programming
DESCRIPTION:On Tuesdays and Thursdays we have our Youth Programming! The schedule goes as follows: \nKid’s Club: 4pm-5pm (4-6 year old climbers) \nJunior Bighorn: 5pm-6pm (7-10 year old climbers) \nBighorn Society: 6pm-730pm (10-16 year old climbers) \nFor more information on our programs\, check out the youth programming section of our website.
URL:https://iloverockclimbing.com/event/youth-programming-2016-12-22/
LOCATION:The Crag At Cool Springs\, 121 Seaboard Lane\, Franklin\, TN\, 37067\, United States
CATEGORIES:Classes & Instruction
END:VEVENT
BEGIN:VEVENT
DTSTART;TZID=America/Chicago:20161220T160000
DTEND;TZID=America/Chicago:20161220T193000
DTSTAMP:20260419T122944
CREATED:20150902T235732Z
LAST-MODIFIED:20150902T235732Z
UID:7039-1482249600-1482262200@iloverockclimbing.com
SUMMARY:Youth Programming
DESCRIPTION:On Tuesdays and Thursdays we have our Youth Programming! The schedule goes as follows: \nKid’s Club: 4pm-5pm (4-6 year old climbers) \nJunior Bighorn: 5pm-6pm (7-10 year old climbers) \nBighorn Society: 6pm-730pm (10-16 year old climbers) \nFor more information on our programs\, check out the youth programming section of our website.
URL:https://iloverockclimbing.com/event/youth-programming-2-2016-12-20/
LOCATION:The Crag At Cool Springs\, 121 Seaboard Lane\, Franklin\, TN\, 37067\, United States
CATEGORIES:Classes & Instruction
END:VEVENT
BEGIN:VEVENT
DTSTART;TZID=America/Chicago:20161219T173000
DTEND;TZID=America/Chicago:20161219T183000
DTSTAMP:20260419T122944
CREATED:20150902T195308Z
LAST-MODIFIED:20150902T195308Z
UID:7840-1482168600-1482172200@iloverockclimbing.com
SUMMARY:Yoga
DESCRIPTION:Our vinyasa yoga is designed to ignite the breath while building complete body strength and flexibility. Students of all levels will experience a series of poses linked to intentional breathing to ignite heat to expel toxins and re-energize the body while relaxing the mind to improve overall energy flow. This vinyasa class is the perfect place to begin a yoga practice or to continue to find challenge in an existing practice.  See you on your mat! \n  \n  \nREGISTER NOW
URL:https://iloverockclimbing.com/event/vinyasa-flow-yoga-2016-12-19/
LOCATION:The Crag At Cool Springs\, 121 Seaboard Lane\, Franklin\, TN\, 37067\, United States
CATEGORIES:Classes & Instruction
ATTACH;FMTTYPE=image/jpeg:https://iloverockclimbing.com/wp-content/uploads/2015/09/crag-yoga-1.jpg
END:VEVENT
BEGIN:VEVENT
DTSTART;TZID=America/Chicago:20161215T190000
DTEND;TZID=America/Chicago:20161215T200000
DTSTAMP:20260419T122944
CREATED:20150902T195710Z
LAST-MODIFIED:20150923T214713Z
UID:6003-1481828400-1481832000@iloverockclimbing.com
SUMMARY:Yoga
DESCRIPTION:Our vinyasa yoga is designed to ignite the breath while building complete body strength and flexibility. Students of all levels will experience a series of poses linked to intentional breathing to ignite heat to expel toxins and re-energize the body while relaxing the mind to improve overall energy flow. This vinyasa class is the perfect place to begin a yoga practice or to continue to find challenge in an existing practice.  See you on your mat! \n  \n  \nREGISTER HERE
URL:https://iloverockclimbing.com/event/vinyasa-flow-yoga-2-2016-12-15/
LOCATION:The Crag At Cool Springs\, 121 Seaboard Lane\, Franklin\, TN\, 37067\, United States
CATEGORIES:Classes & Instruction
ATTACH;FMTTYPE=image/jpeg:https://iloverockclimbing.com/wp-content/uploads/2015/09/crag-yoga-1.jpg
END:VEVENT
BEGIN:VEVENT
DTSTART;TZID=America/Chicago:20161215T160000
DTEND;TZID=America/Chicago:20161215T193000
DTSTAMP:20260419T122944
CREATED:20150902T235350Z
LAST-MODIFIED:20150902T235510Z
UID:6934-1481817600-1481830200@iloverockclimbing.com
SUMMARY:Youth Programming
DESCRIPTION:On Tuesdays and Thursdays we have our Youth Programming! The schedule goes as follows: \nKid’s Club: 4pm-5pm (4-6 year old climbers) \nJunior Bighorn: 5pm-6pm (7-10 year old climbers) \nBighorn Society: 6pm-730pm (10-16 year old climbers) \nFor more information on our programs\, check out the youth programming section of our website.
URL:https://iloverockclimbing.com/event/youth-programming-2016-12-15/
LOCATION:The Crag At Cool Springs\, 121 Seaboard Lane\, Franklin\, TN\, 37067\, United States
CATEGORIES:Classes & Instruction
END:VEVENT
BEGIN:VEVENT
DTSTART;TZID=America/Chicago:20161213T160000
DTEND;TZID=America/Chicago:20161213T193000
DTSTAMP:20260419T122944
CREATED:20150902T235732Z
LAST-MODIFIED:20150902T235732Z
UID:7038-1481644800-1481657400@iloverockclimbing.com
SUMMARY:Youth Programming
DESCRIPTION:On Tuesdays and Thursdays we have our Youth Programming! The schedule goes as follows: \nKid’s Club: 4pm-5pm (4-6 year old climbers) \nJunior Bighorn: 5pm-6pm (7-10 year old climbers) \nBighorn Society: 6pm-730pm (10-16 year old climbers) \nFor more information on our programs\, check out the youth programming section of our website.
URL:https://iloverockclimbing.com/event/youth-programming-2-2016-12-13/
LOCATION:The Crag At Cool Springs\, 121 Seaboard Lane\, Franklin\, TN\, 37067\, United States
CATEGORIES:Classes & Instruction
END:VEVENT
BEGIN:VEVENT
DTSTART;TZID=America/Chicago:20161212T173000
DTEND;TZID=America/Chicago:20161212T183000
DTSTAMP:20260419T122944
CREATED:20150902T195308Z
LAST-MODIFIED:20150902T195308Z
UID:7839-1481563800-1481567400@iloverockclimbing.com
SUMMARY:Yoga
DESCRIPTION:Our vinyasa yoga is designed to ignite the breath while building complete body strength and flexibility. Students of all levels will experience a series of poses linked to intentional breathing to ignite heat to expel toxins and re-energize the body while relaxing the mind to improve overall energy flow. This vinyasa class is the perfect place to begin a yoga practice or to continue to find challenge in an existing practice.  See you on your mat! \n  \n  \nREGISTER NOW
URL:https://iloverockclimbing.com/event/vinyasa-flow-yoga-2016-12-12/
LOCATION:The Crag At Cool Springs\, 121 Seaboard Lane\, Franklin\, TN\, 37067\, United States
CATEGORIES:Classes & Instruction
ATTACH;FMTTYPE=image/jpeg:https://iloverockclimbing.com/wp-content/uploads/2015/09/crag-yoga-1.jpg
END:VEVENT
BEGIN:VEVENT
DTSTART;TZID=America/Chicago:20161208T190000
DTEND;TZID=America/Chicago:20161208T200000
DTSTAMP:20260419T122944
CREATED:20150902T195710Z
LAST-MODIFIED:20150923T214713Z
UID:6002-1481223600-1481227200@iloverockclimbing.com
SUMMARY:Yoga
DESCRIPTION:Our vinyasa yoga is designed to ignite the breath while building complete body strength and flexibility. Students of all levels will experience a series of poses linked to intentional breathing to ignite heat to expel toxins and re-energize the body while relaxing the mind to improve overall energy flow. This vinyasa class is the perfect place to begin a yoga practice or to continue to find challenge in an existing practice.  See you on your mat! \n  \n  \nREGISTER HERE
URL:https://iloverockclimbing.com/event/vinyasa-flow-yoga-2-2016-12-08/
LOCATION:The Crag At Cool Springs\, 121 Seaboard Lane\, Franklin\, TN\, 37067\, United States
CATEGORIES:Classes & Instruction
ATTACH;FMTTYPE=image/jpeg:https://iloverockclimbing.com/wp-content/uploads/2015/09/crag-yoga-1.jpg
END:VEVENT
END:VCALENDAR